BEGIN:VCALENDAR
VERSION:2.0
PRODID:-//Plone.org//NONSGML plone.app.event//EN
X-WR-TIMEZONE:US/Central
BEGIN:VEVENT
SUMMARY:Closed Christmas Day
DTSTART;VALUE=DATE:20241122
DTEND;VALUE=DATE:20241123
DTSTAMP:20260420T120754Z
UID:f7b8910ccaaf43c9a13b549c2706431b@saas_stack_varnish:6080
CREATED:20241122T201808Z
DESCRIPTION:All library branches will be closed December 24 and December 2
 5 for the Christmas Holiday. All branches will reopen for their regular ho
 urs on December 26.
LAST-MODIFIED:20241122T201817Z
URL:https://www.bclib.info/calendar-news/events/closed-christmas-day
END:VEVENT
END:VCALENDAR
