BEGIN:VCALENDAR
VERSION:2.0
PRODID:-//Plone.org//NONSGML plone.app.event//EN
X-WR-TIMEZONE:US/Central
BEGIN:VEVENT
SUMMARY:Closed Christmas Eve
DTSTART;VALUE=DATE:20241122
DTEND;VALUE=DATE:20241123
DTSTAMP:20260420T120535Z
UID:0a1ef4bc73ec46959cca1e828cc4fe82@saas_stack_varnish:6080
CREATED:20241122T201718Z
DESCRIPTION:All library branches will be closed December 24 and December 2
 5 for the Christmas Holiday. All branches will reopen for their regular ho
 urs on December 26.
LAST-MODIFIED:20241122T201729Z
URL:https://www.bclib.info/calendar-news/events/closed-christmas-eve
END:VEVENT
END:VCALENDAR
