BEGIN:VCALENDAR
VERSION:2.0
PRODID:-//Plone.org//NONSGML plone.app.event//EN
X-WR-TIMEZONE:US/Central
BEGIN:VEVENT
SUMMARY:E-Waste Recycling Program for all
DTSTART;TZID=US/Central:20260530T090000
DTEND;TZID=US/Central:20260530T110000
DTSTAMP:20260422T162341Z
UID:87f0db80c91f4be08821e0c42891b2a7@saas_stack_varnish:6080
CATEGORIES:children,teen,adult
CONTACT:417-214-5355
CREATED:20260109T182724Z
DESCRIPTION:Recycle old electronics\, if it ran with a battery or a cord t
 hey'll take it!  For all ages.
LAST-MODIFIED:20260421T151058Z
LOCATION:Lamar Library
URL:https://www.bclib.info/calendar-news/events/copy3_of_nerf-night
END:VEVENT
BEGIN:VTIMEZONE
TZID:US/Central
X-LIC-LOCATION:US/Central
BEGIN:DAYLIGHT
DTSTART:20260308T030000
TZNAME:CDT
TZOFFSETFROM:-0600
TZOFFSETTO:-0500
END:DAYLIGHT
END:VTIMEZONE
END:VCALENDAR
