BEGIN:VCALENDAR
VERSION:2.0
PRODID:-//Plone.org//NONSGML plone.app.event//EN
X-WR-TIMEZONE:US/Central
BEGIN:VEVENT
SUMMARY:Crafternoon
DTSTART;TZID=US/Central:20241125T120000
DTEND;TZID=US/Central:20241125T170000
DTSTAMP:20260420T115905Z
UID:59b95285e96e4eaba6e61528847c2808@saas_stack_varnish:6080
CONTACT:471-682-5355
CREATED:20241121T220934Z
DESCRIPTION:Ages 3-12\, stop by the Lamar Library anytime from 12-5 pm to 
 make and take some fun holiday crafts! Those eight years and younger shoul
 d be accompanied by an adult.
LAST-MODIFIED:20241121T220951Z
LOCATION:Lamar Library
URL:https://www.bclib.info/calendar-news/events/crafternoon
END:VEVENT
BEGIN:VTIMEZONE
TZID:US/Central
X-LIC-LOCATION:US/Central
BEGIN:STANDARD
DTSTART:20241103T010000
TZNAME:CST
TZOFFSETFROM:-0500
TZOFFSETTO:-0600
END:STANDARD
END:VTIMEZONE
END:VCALENDAR
