BEGIN:VCALENDAR
VERSION:2.0
PRODID:-//Plone.org//NONSGML plone.app.event//EN
X-WR-TIMEZONE:US/Central
BEGIN:VEVENT
SUMMARY:Golden City Story Time Program
DTSTART;TZID=US/Central:20231010T110000
DTEND;TZID=US/Central:20231010T114500
DTSTAMP:20260421T130330Z
UID:868ef63b90b741829c1929cefe6ddb25@saas_stack_varnish:6080
CATEGORIES:children
CONTACT:417-537-4991
CREATED:20231006T205136Z
DESCRIPTION:Programs for 8 and under with stories\, music and crafts.
LAST-MODIFIED:20231006T205147Z
LOCATION:Golden City Library
URL:https://www.bclib.info/calendar-news/events/golden-city-story-time-pro
 gram/2023-10-10
END:VEVENT
BEGIN:VTIMEZONE
TZID:US/Central
X-LIC-LOCATION:US/Central
BEGIN:DAYLIGHT
DTSTART:20230312T030000
TZNAME:CDT
TZOFFSETFROM:-0600
TZOFFSETTO:-0500
END:DAYLIGHT
END:VTIMEZONE
END:VCALENDAR
