BEGIN:VCALENDAR
VERSION:2.0
PRODID:-//Plone.org//NONSGML plone.app.event//EN
X-WR-TIMEZONE:US/Central
BEGIN:VEVENT
SUMMARY:Liberal Story Time Program
DTSTART;TZID=US/Central:20231010T110000
DTEND;TZID=US/Central:20231010T114500
DTSTAMP:20260421T124623Z
UID:9957148fdf1147d5a467288a12618507@saas_stack_varnish:6080
CATEGORIES:children
CONTACT:417-843-5910
CREATED:20231006T205442Z
DESCRIPTION:Program for 8 and under with stories\, music and crafts.
LAST-MODIFIED:20231006T205449Z
LOCATION:Liberal Library
URL:https://www.bclib.info/calendar-news/events/liberal-story-time-program
END:VEVENT
BEGIN:VTIMEZONE
TZID:US/Central
X-LIC-LOCATION:US/Central
BEGIN:DAYLIGHT
DTSTART:20230312T030000
TZNAME:CDT
TZOFFSETFROM:-0600
TZOFFSETTO:-0500
END:DAYLIGHT
END:VTIMEZONE
END:VCALENDAR
