BEGIN:VCALENDAR
VERSION:2.0
PRODID:-//Plone.org//NONSGML plone.app.event//EN
X-WR-TIMEZONE:US/Central
BEGIN:VEVENT
SUMMARY:Summer Reading Program 2026 for All Ages
DTSTART;VALUE=DATE:20260526
DTEND;VALUE=DATE:20260725
DTSTAMP:20260422T143632Z
UID:a47788166871431099c0001ec1540276@saas_stack_varnish:6080
CONTACT:417-682-5355(Lamar)\, 417-843-5791(Liberal)\, 417-537-4991(Golden 
 City)
CREATED:20260213T212908Z
DESCRIPTION:Reading Program for All Ages
LAST-MODIFIED:20260421T150917Z
LOCATION:Lamar\, Liberal\, Golden City
URL:https://www.bclib.info/calendar-news/events/summer-reading-program-202
 6-for-all-ages
END:VEVENT
END:VCALENDAR
